BEGIN:VCALENDAR
VERSION:2.0
PRODID:-//Mission Locale Rochefort Marennes Oléron - ECPv6.15.20//NONSGML v1.0//EN
CALSCALE:GREGORIAN
METHOD:PUBLISH
X-ORIGINAL-URL:https://milo-rmo.com
X-WR-CALDESC:Évènements pour Mission Locale Rochefort Marennes Oléron
REFRESH-INTERVAL;VALUE=DURATION:PT1H
X-Robots-Tag:noindex
X-PUBLISHED-TTL:PT1H
BEGIN:VTIMEZONE
TZID:Europe/Paris
BEGIN:DAYLIGHT
TZOFFSETFROM:+0100
TZOFFSETTO:+0200
TZNAME:CEST
DTSTART:20210328T010000
END:DAYLIGHT
BEGIN:STANDARD
TZOFFSETFROM:+0200
TZOFFSETTO:+0100
TZNAME:CET
DTSTART:20211031T010000
END:STANDARD
BEGIN:DAYLIGHT
TZOFFSETFROM:+0100
TZOFFSETTO:+0200
TZNAME:CEST
DTSTART:20220327T010000
END:DAYLIGHT
BEGIN:STANDARD
TZOFFSETFROM:+0200
TZOFFSETTO:+0100
TZNAME:CET
DTSTART:20221030T010000
END:STANDARD
BEGIN:DAYLIGHT
TZOFFSETFROM:+0100
TZOFFSETTO:+0200
TZNAME:CEST
DTSTART:20230326T010000
END:DAYLIGHT
BEGIN:STANDARD
TZOFFSETFROM:+0200
TZOFFSETTO:+0100
TZNAME:CET
DTSTART:20231029T010000
END:STANDARD
END:VTIMEZONE
BEGIN:VEVENT
DTSTART;TZID=Europe/Paris:20221006T100000
DTEND;TZID=Europe/Paris:20221006T120000
DTSTAMP:20260424T112011
CREATED:20220907T135652Z
LAST-MODIFIED:20220907T135652Z
UID:29103-1665050400-1665057600@milo-rmo.com
SUMMARY:Café Jobs sur le site de Fountaine Pajot
DESCRIPTION:Viens découvrir l’entreprise Fountaine Pajot (sur son site d’Aigrefeuille) \n\n– Visualisation des étapes de construction\n– Présentation des métiers et besoins en recrutement\n– échange avec le responsable de production et la DRH\n\nPour participer\, inscrivez-vous auprès de votre conseillère Mission Locale ou téléphonez au 05.46.99.06.00
URL:https://milo-rmo.com/event/cafe-jobs-sur-le-site-de-fountaine-pajot/
LOCATION:Fountaine Pajot – Aigrefeuille\, rue Fief Girard\, Aigrefeuille\, 17290\, France
ATTACH;FMTTYPE=image/jpeg:https://milo-rmo.com/wp-content/uploads/2022/09/Cafe-jobs-06-octobre-2022-mini.jpg
END:VEVENT
END:VCALENDAR