BEGIN:VCALENDAR
VERSION:2.0
PRODID:-//Mission Locale Rochefort Marennes Oléron - ECPv6.15.20//NONSGML v1.0//EN
CALSCALE:GREGORIAN
METHOD:PUBLISH
X-WR-CALNAME:Mission Locale Rochefort Marennes Oléron
X-ORIGINAL-URL:https://milo-rmo.com
X-WR-CALDESC:Évènements pour Mission Locale Rochefort Marennes Oléron
REFRESH-INTERVAL;VALUE=DURATION:PT1H
X-Robots-Tag:noindex
X-PUBLISHED-TTL:PT1H
BEGIN:VTIMEZONE
TZID:Europe/Paris
BEGIN:DAYLIGHT
TZOFFSETFROM:+0100
TZOFFSETTO:+0200
TZNAME:CEST
DTSTART:20230326T010000
END:DAYLIGHT
BEGIN:STANDARD
TZOFFSETFROM:+0200
TZOFFSETTO:+0100
TZNAME:CET
DTSTART:20231029T010000
END:STANDARD
BEGIN:DAYLIGHT
TZOFFSETFROM:+0100
TZOFFSETTO:+0200
TZNAME:CEST
DTSTART:20240331T010000
END:DAYLIGHT
BEGIN:STANDARD
TZOFFSETFROM:+0200
TZOFFSETTO:+0100
TZNAME:CET
DTSTART:20241027T010000
END:STANDARD
BEGIN:DAYLIGHT
TZOFFSETFROM:+0100
TZOFFSETTO:+0200
TZNAME:CEST
DTSTART:20250330T010000
END:DAYLIGHT
BEGIN:STANDARD
TZOFFSETFROM:+0200
TZOFFSETTO:+0100
TZNAME:CET
DTSTART:20251026T010000
END:STANDARD
END:VTIMEZONE
BEGIN:VEVENT
DTSTART;TZID=Europe/Paris:20241212T093000
DTEND;TZID=Europe/Paris:20241212T170000
DTSTAMP:20260422T080608
CREATED:20241128T085407Z
LAST-MODIFIED:20241128T085407Z
UID:29751-1733995800-1734022800@milo-rmo.com
SUMMARY:Ca se discute
DESCRIPTION:« Ca se discute » est un espace de parole mensuel\, libre et gratuit\, permettant aux jeunes de la Mission Locale de s’exprimer sur des thématiques qu’ils ont choisies. Durant ce moment consacré à la libération de la parole et à l’échange\, les jeunes sont accompagnés par un ou des professionnels et une conseillère. \nEn ce mois de décembre\, le thème choisi est : Addictions. \nCliquez-ici pour vous inscrire à cet atelier. \nEt retrouvez notre programmation du mois de décembre 2024 sur ce lien.
URL:https://milo-rmo.com/event/ca-se-discute/
LOCATION:Mission Locale\, 1 Avenue Maurice Chupin Parc des Fourriers\, Rochefort\, 17312
ATTACH;FMTTYPE=image/jpeg:https://milo-rmo.com/wp-content/uploads/2024/11/Casediscute.jpg
END:VEVENT
END:VCALENDAR