BEGIN:VCALENDAR
VERSION:2.0
PRODID:-//Mission Locale Rochefort Marennes Oléron - ECPv6.15.20//NONSGML v1.0//EN
CALSCALE:GREGORIAN
METHOD:PUBLISH
X-WR-CALNAME:Mission Locale Rochefort Marennes Oléron
X-ORIGINAL-URL:https://milo-rmo.com
X-WR-CALDESC:Évènements pour Mission Locale Rochefort Marennes Oléron
REFRESH-INTERVAL;VALUE=DURATION:PT1H
X-Robots-Tag:noindex
X-PUBLISHED-TTL:PT1H
BEGIN:VTIMEZONE
TZID:Europe/Paris
BEGIN:DAYLIGHT
TZOFFSETFROM:+0100
TZOFFSETTO:+0200
TZNAME:CEST
DTSTART:20230326T010000
END:DAYLIGHT
BEGIN:STANDARD
TZOFFSETFROM:+0200
TZOFFSETTO:+0100
TZNAME:CET
DTSTART:20231029T010000
END:STANDARD
BEGIN:DAYLIGHT
TZOFFSETFROM:+0100
TZOFFSETTO:+0200
TZNAME:CEST
DTSTART:20240331T010000
END:DAYLIGHT
BEGIN:STANDARD
TZOFFSETFROM:+0200
TZOFFSETTO:+0100
TZNAME:CET
DTSTART:20241027T010000
END:STANDARD
BEGIN:DAYLIGHT
TZOFFSETFROM:+0100
TZOFFSETTO:+0200
TZNAME:CEST
DTSTART:20250330T010000
END:DAYLIGHT
BEGIN:STANDARD
TZOFFSETFROM:+0200
TZOFFSETTO:+0100
TZNAME:CET
DTSTART:20251026T010000
END:STANDARD
END:VTIMEZONE
BEGIN:VEVENT
DTSTART;TZID=Europe/Paris:20241213T100000
DTEND;TZID=Europe/Paris:20241213T140000
DTSTAMP:20260422T093118
CREATED:20241128T091002Z
LAST-MODIFIED:20241128T091002Z
UID:29754-1734084000-1734098400@milo-rmo.com
SUMMARY:Le Coin Cuisine
DESCRIPTION:Conseils et astuces pour bien se nourrir à peu de frais\, avec l’intervention d’une diététicienne de la Banque Alimentaire de Charente Maritime. Cuisiner des\nproduits simples à petits prix. Suivi d’un repas partagé. \nCliquez-ici pour vous inscrire à cet atelier. \nEt retrouvez notre programmation du mois de décembre 2024 sur ce lien.
URL:https://milo-rmo.com/event/le-coin-cuisine/
LOCATION:Local Jeunes – La Gélinerie\, Quartier de la Gélinerie (à côté du local de la Cie Pyramid) 2 rue Nungesser et Coli\, Rochefort\, 17300
ATTACH;FMTTYPE=image/jpeg:https://milo-rmo.com/wp-content/uploads/2024/11/Coincuisine.jpg
END:VEVENT
END:VCALENDAR