BEGIN:VCALENDAR
VERSION:2.0
PRODID:-//Mission Locale Rochefort Marennes Oléron - ECPv6.15.20//NONSGML v1.0//EN
CALSCALE:GREGORIAN
METHOD:PUBLISH
X-WR-CALNAME:Mission Locale Rochefort Marennes Oléron
X-ORIGINAL-URL:https://milo-rmo.com
X-WR-CALDESC:Évènements pour Mission Locale Rochefort Marennes Oléron
REFRESH-INTERVAL;VALUE=DURATION:PT1H
X-Robots-Tag:noindex
X-PUBLISHED-TTL:PT1H
BEGIN:VTIMEZONE
TZID:Europe/Paris
BEGIN:DAYLIGHT
TZOFFSETFROM:+0100
TZOFFSETTO:+0200
TZNAME:CEST
DTSTART:20240331T010000
END:DAYLIGHT
BEGIN:STANDARD
TZOFFSETFROM:+0200
TZOFFSETTO:+0100
TZNAME:CET
DTSTART:20241027T010000
END:STANDARD
BEGIN:DAYLIGHT
TZOFFSETFROM:+0100
TZOFFSETTO:+0200
TZNAME:CEST
DTSTART:20250330T010000
END:DAYLIGHT
BEGIN:STANDARD
TZOFFSETFROM:+0200
TZOFFSETTO:+0100
TZNAME:CET
DTSTART:20251026T010000
END:STANDARD
BEGIN:DAYLIGHT
TZOFFSETFROM:+0100
TZOFFSETTO:+0200
TZNAME:CEST
DTSTART:20260329T010000
END:DAYLIGHT
BEGIN:STANDARD
TZOFFSETFROM:+0200
TZOFFSETTO:+0100
TZNAME:CET
DTSTART:20261025T010000
END:STANDARD
END:VTIMEZONE
BEGIN:VEVENT
DTSTART;TZID=Europe/Paris:20250115T090000
DTEND;TZID=Europe/Paris:20250115T170000
DTSTAMP:20260422T080653
CREATED:20241223T130459Z
LAST-MODIFIED:20241223T130459Z
UID:29775-1736931600-1736960400@milo-rmo.com
SUMMARY:Atelier 3D
DESCRIPTION:Cet atelier permet de découvrir l’impression 3D et la conception de pièces à partir d’outils numériques. \nConcevoir\, imaginer et réaliser une pièce à partir de matière plastique comme le PLA ou l’ABS. Comprendre comment fonctionne une imprimante 3D et quels sont les usages de l’industrie additive. Quels sont les domaines dans lesquels l’impression 3D est utilisée. \nVous pourrez imprimer  une pièce simple et voir une imprimante en action. \nCliquez-ici pour vous inscrire à cet atelier. \nEt retrouvez notre programmation du mois de janvier 2025 sur ce lien.
URL:https://milo-rmo.com/event/atelier-3d/
LOCATION:Mission Locale\, 1 Avenue Maurice Chupin Parc des Fourriers\, Rochefort\, 17312
ATTACH;FMTTYPE=image/jpeg:https://milo-rmo.com/wp-content/uploads/2024/12/Atelier3D.jpg
END:VEVENT
END:VCALENDAR