BEGIN:VCALENDAR
VERSION:2.0
PRODID:-//Mission Locale Rochefort Marennes Oléron - ECPv6.15.20//NONSGML v1.0//EN
CALSCALE:GREGORIAN
METHOD:PUBLISH
X-ORIGINAL-URL:https://milo-rmo.com
X-WR-CALDESC:Évènements pour Mission Locale Rochefort Marennes Oléron
REFRESH-INTERVAL;VALUE=DURATION:PT1H
X-Robots-Tag:noindex
X-PUBLISHED-TTL:PT1H
BEGIN:VTIMEZONE
TZID:Europe/Paris
BEGIN:DAYLIGHT
TZOFFSETFROM:+0100
TZOFFSETTO:+0200
TZNAME:CEST
DTSTART:20240331T010000
END:DAYLIGHT
BEGIN:STANDARD
TZOFFSETFROM:+0200
TZOFFSETTO:+0100
TZNAME:CET
DTSTART:20241027T010000
END:STANDARD
BEGIN:DAYLIGHT
TZOFFSETFROM:+0100
TZOFFSETTO:+0200
TZNAME:CEST
DTSTART:20250330T010000
END:DAYLIGHT
BEGIN:STANDARD
TZOFFSETFROM:+0200
TZOFFSETTO:+0100
TZNAME:CET
DTSTART:20251026T010000
END:STANDARD
BEGIN:DAYLIGHT
TZOFFSETFROM:+0100
TZOFFSETTO:+0200
TZNAME:CEST
DTSTART:20260329T010000
END:DAYLIGHT
BEGIN:STANDARD
TZOFFSETFROM:+0200
TZOFFSETTO:+0100
TZNAME:CET
DTSTART:20261025T010000
END:STANDARD
END:VTIMEZONE
BEGIN:VEVENT
DTSTART;TZID=Europe/Paris:20250401T080000
DTEND;TZID=Europe/Paris:20250626T170000
DTSTAMP:20260421T213033
CREATED:20250410T131813Z
LAST-MODIFIED:20250410T131813Z
UID:29824-1743494400-1750957200@milo-rmo.com
SUMMARY:Spor'toi bien !
DESCRIPTION:Sport’toi Bien c’est parti !\n\n\n\nDu 1er avril au 26 juin\, la Mission Locale invite les jeunes à bouger\, découvrir des activités physiques et sportives\, échanger autour du sport et de la santé.\n\n\n Grâce à nos différents partenaires\, Espace Jeunes de Rochefort \, Primevère Lesson \, Compagnie Pyramid \, Ville de Rochefort 17 \, Banque alimentaire de Charente-Maritime\, de nombreuses activités sont proposées !\n\n\n\nLe programme complet est disponible via ce lien : https://milo-rmo.com/…/04/Flyer-simple-sportoibien.pdf\n\n\n\nEt les inscriptions sont par ici : https://www.linscription.com/…/catalogue-missionlocale…
URL:https://milo-rmo.com/event/sportoi-bien/
LOCATION:Mission Locale\, 1 Avenue Maurice Chupin Parc des Fourriers\, Rochefort\, 17312
ATTACH;FMTTYPE=image/jpeg:https://milo-rmo.com/wp-content/uploads/2025/04/sportoibien-site.jpg
END:VEVENT
BEGIN:VEVENT
DTSTART;TZID=Europe/Paris:20250515T080000
DTEND;TZID=Europe/Paris:20250517T170000
DTSTAMP:20260421T213033
CREATED:20250429T142352Z
LAST-MODIFIED:20250429T142352Z
UID:29831-1747296000-1747501200@milo-rmo.com
SUMMARY:Journées des métiers de la mer
DESCRIPTION:Du 15 au 17 mais\, la Communauté de communes de l’île d’Oléron organise la deuxième édition des Journées des Métiers de la Mer. De nombreux partenaires sont associés à cet événement : le C.R.C. ; le CDPMEM ; France Travail ; La Mission Locale ; Le Département ; Le port de la Cotinière… \nEt le 16 mai\, rendez-vous à la Matinée de l’Emploi (de 9h à 12h) pour découvrir les métiers de la pêche\, l’ostréiculture etc.
URL:https://milo-rmo.com/event/journees-des-metiers-de-la-mer/
ATTACH;FMTTYPE=image/jpeg:https://milo-rmo.com/wp-content/uploads/2025/04/JMM-2025-site.jpg
END:VEVENT
BEGIN:VEVENT
DTSTART;TZID=Europe/Paris:20250516T100000
DTEND;TZID=Europe/Paris:20250518T170000
DTSTAMP:20260421T213033
CREATED:20250429T142816Z
LAST-MODIFIED:20250429T142816Z
UID:29834-1747389600-1747587600@milo-rmo.com
SUMMARY:Forum des métiers de la Défense et de la Sécurité
DESCRIPTION:Le Forum des Métiers de la Défense et de la Sécurité vous propose de découvrir le rôle et le travail de l’ensemble des corps et unités qui assurent au quotidien la protection et la sécurité de nos concitoyens.
URL:https://milo-rmo.com/event/forum-des-metiers-de-la-defense-et-de-la-securite/
LOCATION:Site de l’Anaman\, Rond Point Albert Bignon\, Rochefort\, 17300\, France
ATTACH;FMTTYPE=image/jpeg:https://milo-rmo.com/wp-content/uploads/2025/04/Affiche-forum-securite-defense-2025-site.jpg
END:VEVENT
END:VCALENDAR