BEGIN:VCALENDAR
VERSION:2.0
PRODID:-//Mission Locale Rochefort Marennes Oléron - ECPv6.15.20//NONSGML v1.0//EN
CALSCALE:GREGORIAN
METHOD:PUBLISH
X-WR-CALNAME:Mission Locale Rochefort Marennes Oléron
X-ORIGINAL-URL:https://milo-rmo.com
X-WR-CALDESC:Évènements pour Mission Locale Rochefort Marennes Oléron
REFRESH-INTERVAL;VALUE=DURATION:PT1H
X-Robots-Tag:noindex
X-PUBLISHED-TTL:PT1H
BEGIN:VTIMEZONE
TZID:Europe/Paris
BEGIN:DAYLIGHT
TZOFFSETFROM:+0100
TZOFFSETTO:+0200
TZNAME:CEST
DTSTART:20210328T010000
END:DAYLIGHT
BEGIN:STANDARD
TZOFFSETFROM:+0200
TZOFFSETTO:+0100
TZNAME:CET
DTSTART:20211031T010000
END:STANDARD
BEGIN:DAYLIGHT
TZOFFSETFROM:+0100
TZOFFSETTO:+0200
TZNAME:CEST
DTSTART:20220327T010000
END:DAYLIGHT
BEGIN:STANDARD
TZOFFSETFROM:+0200
TZOFFSETTO:+0100
TZNAME:CET
DTSTART:20221030T010000
END:STANDARD
BEGIN:DAYLIGHT
TZOFFSETFROM:+0100
TZOFFSETTO:+0200
TZNAME:CEST
DTSTART:20230326T010000
END:DAYLIGHT
BEGIN:STANDARD
TZOFFSETFROM:+0200
TZOFFSETTO:+0100
TZNAME:CET
DTSTART:20231029T010000
END:STANDARD
END:VTIMEZONE
BEGIN:VEVENT
DTSTART;TZID=Europe/Paris:20220915T143000
DTEND;TZID=Europe/Paris:20220915T163000
DTSTAMP:20260424T135432
CREATED:20220907T132427Z
LAST-MODIFIED:20220907T132942Z
UID:29095-1663252200-1663259400@milo-rmo.com
SUMMARY:Café Jobs Ostréiculture
DESCRIPTION:Avec la présence de l’agence ACTUAL \nAu programme : \n\n– Présentation de l’agence\n– Postes à pourvoir en ostréiculture\n– Recrutement\n\nPour participer\, inscrivez-vous auprès de votre conseillère Mission Locale ou téléphonez au 05.46.99.06.00
URL:https://milo-rmo.com/event/cafe-jobs-ostreiculture/
LOCATION:Bureau Information Jeunesse – St Pierre d’Oléron\, 9 Avenue de Bel Air\, Zone Commerciale de La Claircière\, St Pierre d'Oléron\, 17310\, France
ATTACH;FMTTYPE=image/jpeg:https://milo-rmo.com/wp-content/uploads/2022/09/Cafe-jobs-15-septembre-2022-mini.jpg
END:VEVENT
END:VCALENDAR