BEGIN:VCALENDAR
VERSION:2.0
PRODID:-//Mission Locale Rochefort Marennes Oléron - ECPv6.15.20//NONSGML v1.0//EN
CALSCALE:GREGORIAN
METHOD:PUBLISH
X-WR-CALNAME:Mission Locale Rochefort Marennes Oléron
X-ORIGINAL-URL:https://milo-rmo.com
X-WR-CALDESC:Évènements pour Mission Locale Rochefort Marennes Oléron
REFRESH-INTERVAL;VALUE=DURATION:PT1H
X-Robots-Tag:noindex
X-PUBLISHED-TTL:PT1H
BEGIN:VTIMEZONE
TZID:Europe/Paris
BEGIN:DAYLIGHT
TZOFFSETFROM:+0100
TZOFFSETTO:+0200
TZNAME:CEST
DTSTART:20230326T010000
END:DAYLIGHT
BEGIN:STANDARD
TZOFFSETFROM:+0200
TZOFFSETTO:+0100
TZNAME:CET
DTSTART:20231029T010000
END:STANDARD
BEGIN:DAYLIGHT
TZOFFSETFROM:+0100
TZOFFSETTO:+0200
TZNAME:CEST
DTSTART:20240331T010000
END:DAYLIGHT
BEGIN:STANDARD
TZOFFSETFROM:+0200
TZOFFSETTO:+0100
TZNAME:CET
DTSTART:20241027T010000
END:STANDARD
BEGIN:DAYLIGHT
TZOFFSETFROM:+0100
TZOFFSETTO:+0200
TZNAME:CEST
DTSTART:20250330T010000
END:DAYLIGHT
BEGIN:STANDARD
TZOFFSETFROM:+0200
TZOFFSETTO:+0100
TZNAME:CET
DTSTART:20251026T010000
END:STANDARD
END:VTIMEZONE
BEGIN:VEVENT
DTSTART;TZID=Europe/Paris:20241118T080000
DTEND;TZID=Europe/Paris:20241122T170000
DTSTAMP:20260422T080643
CREATED:20241113T135019Z
LAST-MODIFIED:20241113T140048Z
UID:29728-1731916800-1732294800@milo-rmo.com
SUMMARY:Semaine de l'Industrie
DESCRIPTION:Visites d’entreprises\, conférences\, découvertes des métiers et job dating. \nDécouvrez le programme de la Semaine de l’Industrie en cliquant ici.
URL:https://milo-rmo.com/event/semaine-de-lindustrie/
LOCATION:Rochefort
ATTACH;FMTTYPE=image/jpeg:https://milo-rmo.com/wp-content/uploads/2024/11/Industrie.jpg
END:VEVENT
BEGIN:VEVENT
DTSTART;TZID=Europe/Paris:20241119T093000
DTEND;TZID=Europe/Paris:20241119T173000
DTSTAMP:20260422T080643
CREATED:20241113T132207Z
LAST-MODIFIED:20241113T133212Z
UID:29711-1732008600-1732037400@milo-rmo.com
SUMMARY:Salon du handicap et de la compensation
DESCRIPTION:A l’occasion de la semaine européenne pour l’emploi des personnes handicapées : \nVenez découvrir des solutions d’aménagements sur des postes de travail ou des ateliers\nde sensibilisation au handicap : casques de réalité virtuelle\, goûter dans le noir\, sensibilisation\naux handicaps “Dys”\, “Autisme” et bien d’autres encore.\nPlusieurs tables rondes animées par des experts (CARSAT\, ESAT\, Médecines du travail\,\nCDG17\, Avenir actifs…)…
URL:https://milo-rmo.com/event/salon-du-handicap-et-de-la-compensation/
LOCATION:Espace Encan – La Rochelle
ATTACH;FMTTYPE=image/png:https://milo-rmo.com/wp-content/uploads/2024/11/flyer-SEEPH-2024-QR-code-A-diffuser.png
END:VEVENT
BEGIN:VEVENT
DTSTART;TZID=Europe/Paris:20241121T103000
DTEND;TZID=Europe/Paris:20241121T143000
DTSTAMP:20260422T080643
CREATED:20241113T133936Z
LAST-MODIFIED:20241113T133936Z
UID:29721-1732185000-1732199400@milo-rmo.com
SUMMARY:Vis mon job avec Mac Do !
DESCRIPTION:Venez vivre un service avec nous\, vous serer en binôme avec un/une salarié(e) Mac Do sur le service du midi. Après le service partage du déjeuner Mac Do tous ensemble pour débriefer sur votre expérience du jour. \nInscription obligatoire (cliquer ici)\nAvoir une Reconnaissance Qualité Travailleur Handicapé (RQTH) \n 
URL:https://milo-rmo.com/event/vis-mon-job-avec-mac-do/
LOCATION:Mac Donald’s Rochefort Sud\, Avenue Jacques Demy\, Rochefort\, 17300\, France
ATTACH;FMTTYPE=image/jpeg:https://milo-rmo.com/wp-content/uploads/2024/11/Vis-mon-job-avec-MacDo-.jpg
END:VEVENT
BEGIN:VEVENT
DTSTART;TZID=Europe/Paris:20241121T140000
DTEND;TZID=Europe/Paris:20241121T210000
DTSTAMP:20260422T080643
CREATED:20241113T135713Z
LAST-MODIFIED:20241113T135713Z
UID:29732-1732197600-1732222800@milo-rmo.com
SUMMARY:La Nuit de l'Orientation
DESCRIPTION:Trouver sa voie…Un rendez-vous destiné aux jeunes (collégiens\, lycéens\, étudiants\, parents) pour leur permettre d’explorer différents secteurs d’activités et métiers.
URL:https://milo-rmo.com/event/la-nuit-de-lorientation/
LOCATION:Palais des Congrès – Rochefort\, Rochefort\, 17300
ATTACH;FMTTYPE=image/jpeg:https://milo-rmo.com/wp-content/uploads/2024/11/A4-affiche-NO2024-light.jpg
END:VEVENT
END:VCALENDAR