BEGIN:VCALENDAR
VERSION:2.0
PRODID:-//Mission Locale Rochefort Marennes Oléron - ECPv6.15.20//NONSGML v1.0//EN
CALSCALE:GREGORIAN
METHOD:PUBLISH
X-WR-CALNAME:Mission Locale Rochefort Marennes Oléron
X-ORIGINAL-URL:https://milo-rmo.com
X-WR-CALDESC:Évènements pour Mission Locale Rochefort Marennes Oléron
REFRESH-INTERVAL;VALUE=DURATION:PT1H
X-Robots-Tag:noindex
X-PUBLISHED-TTL:PT1H
BEGIN:VTIMEZONE
TZID:Europe/Paris
BEGIN:DAYLIGHT
TZOFFSETFROM:+0100
TZOFFSETTO:+0200
TZNAME:CEST
DTSTART:20240331T010000
END:DAYLIGHT
BEGIN:STANDARD
TZOFFSETFROM:+0200
TZOFFSETTO:+0100
TZNAME:CET
DTSTART:20241027T010000
END:STANDARD
BEGIN:DAYLIGHT
TZOFFSETFROM:+0100
TZOFFSETTO:+0200
TZNAME:CEST
DTSTART:20250330T010000
END:DAYLIGHT
BEGIN:STANDARD
TZOFFSETFROM:+0200
TZOFFSETTO:+0100
TZNAME:CET
DTSTART:20251026T010000
END:STANDARD
BEGIN:DAYLIGHT
TZOFFSETFROM:+0100
TZOFFSETTO:+0200
TZNAME:CEST
DTSTART:20260329T010000
END:DAYLIGHT
BEGIN:STANDARD
TZOFFSETFROM:+0200
TZOFFSETTO:+0100
TZNAME:CET
DTSTART:20261025T010000
END:STANDARD
END:VTIMEZONE
BEGIN:VEVENT
DTSTART;TZID=Europe/Paris:20250115T090000
DTEND;TZID=Europe/Paris:20250115T170000
DTSTAMP:20260422T050725
CREATED:20241223T130459Z
LAST-MODIFIED:20241223T130459Z
UID:29775-1736931600-1736960400@milo-rmo.com
SUMMARY:Atelier 3D
DESCRIPTION:Cet atelier permet de découvrir l’impression 3D et la conception de pièces à partir d’outils numériques. \nConcevoir\, imaginer et réaliser une pièce à partir de matière plastique comme le PLA ou l’ABS. Comprendre comment fonctionne une imprimante 3D et quels sont les usages de l’industrie additive. Quels sont les domaines dans lesquels l’impression 3D est utilisée. \nVous pourrez imprimer  une pièce simple et voir une imprimante en action. \nCliquez-ici pour vous inscrire à cet atelier. \nEt retrouvez notre programmation du mois de janvier 2025 sur ce lien.
URL:https://milo-rmo.com/event/atelier-3d/
LOCATION:Mission Locale\, 1 Avenue Maurice Chupin Parc des Fourriers\, Rochefort\, 17312
ATTACH;FMTTYPE=image/jpeg:https://milo-rmo.com/wp-content/uploads/2024/12/Atelier3D.jpg
END:VEVENT
BEGIN:VEVENT
DTSTART;TZID=Europe/Paris:20250116T080000
DTEND;TZID=Europe/Paris:20250124T170000
DTSTAMP:20260422T050725
CREATED:20250115T132938Z
LAST-MODIFIED:20250115T132938Z
UID:29783-1737014400-1737738000@milo-rmo.com
SUMMARY:Semaine du Numérique
DESCRIPTION:Venez découvrir les métiers et les formations liées au numérique. \nRencontres\, ateliers et découvertes avec des professionnels du secteur. \nCliquez-ici pour vous inscrire aux différentes activités. \nEt retrouvez notre programmation du mois de janvier 2025 sur ce lien. \n 
URL:https://milo-rmo.com/event/semaine-du-numerique/
LOCATION:Mission Locale\, 1 Avenue Maurice Chupin Parc des Fourriers\, Rochefort\, 17312
ATTACH;FMTTYPE=image/jpeg:https://milo-rmo.com/wp-content/uploads/2025/01/Semaine-numerique2025.jpg
END:VEVENT
BEGIN:VEVENT
DTSTART;TZID=Europe/Paris:20250120T080000
DTEND;TZID=Europe/Paris:20250203T170000
DTSTAMP:20260422T050725
CREATED:20250115T134411Z
LAST-MODIFIED:20250115T134411Z
UID:29790-1737360000-1738602000@milo-rmo.com
SUMMARY:Visite Technopole Métiers Aéronautique
DESCRIPTION:La Mission Locale vous propose une immersion dans les métiers de l’industrie aéronautique. \n\nVenez découvrir des métiers par le geste professionnel. Manipulez\, découvrez\, interagissez\, expérimentez\, reproduisez. \nC’est au travers des gestes que vous découvrirez peut-être le métier que vous ferez demain. \nCliquez-ici pour vous inscrire à cet événement. \nEt retrouvez notre programmation du mois de janvier 2025 sur ce lien.
URL:https://milo-rmo.com/event/visite-technopole-metiers-aeronautique/
LOCATION:Technopole de Rochefort\, ZAC de L'Arsenal\, 11 rue Auguste Giral\, Rochefort\, 17300\, France
ATTACH;FMTTYPE=image/jpeg:https://milo-rmo.com/wp-content/uploads/2025/01/expo-aero2.jpg
END:VEVENT
BEGIN:VEVENT
DTSTART;TZID=Europe/Paris:20250128T140000
DTEND;TZID=Europe/Paris:20250128T170000
DTSTAMP:20260422T050725
CREATED:20241223T125859Z
LAST-MODIFIED:20241223T125859Z
UID:29772-1738072800-1738083600@milo-rmo.com
SUMMARY:Rallye des Assos
DESCRIPTION:En janvier\, découvrez le bénévolat à côté de chez vous ! \nDeux journées pour en savoir plus sur le rôle des bénévoles\, leurs missions et découvrir des associations du Pays Rochefortais. \nCliquez-ici pour vous inscrire à cet atelier. \nEt retrouvez notre programmation du mois de janvier 2025 sur ce lien.
URL:https://milo-rmo.com/event/rallye-des-assos/
LOCATION:Mission Locale\, 1 Avenue Maurice Chupin Parc des Fourriers\, Rochefort\, 17312
ATTACH;FMTTYPE=image/jpeg:https://milo-rmo.com/wp-content/uploads/2024/12/Rallye.jpg
END:VEVENT
BEGIN:VEVENT
DTSTART;TZID=Europe/Paris:20250130T100000
DTEND;TZID=Europe/Paris:20250130T120000
DTSTAMP:20260422T050725
CREATED:20250115T133704Z
LAST-MODIFIED:20250115T133704Z
UID:29786-1738231200-1738238400@milo-rmo.com
SUMMARY:Forum Aéroday 2025
DESCRIPTION:Venez rencontrer l’agence intérim RANDSTAD\, ses partenaires et les industries aéronautique de Rochefort.\n\nIls vous présenteront les deux formations d’ajusteur monteur cabine et aérostructure et découvrir les offres d’emploi dans les différentes industries rochefortaises.\n\n\nCliquez-ici pour vous inscrire à cet atelier. \nEt retrouvez notre programmation du mois de janvier 2025 sur ce lien.
URL:https://milo-rmo.com/event/forum-aeroday-2025/
LOCATION:Musée de l’Aéronautique\, Rond Point de l'école de Gendarmerie\, Rochefort\, 17300\, France
ATTACH;FMTTYPE=image/jpeg:https://milo-rmo.com/wp-content/uploads/2025/01/Aeroday-Randstad-Janvier-2025.jpg
END:VEVENT
END:VCALENDAR